BEGIN:VCALENDAR
VERSION:2.0
PRODID:-//Wentworth Villa - ECPv6.15.20//NONSGML v1.0//EN
CALSCALE:GREGORIAN
METHOD:PUBLISH
X-ORIGINAL-URL:https://wentworthvilla.com
X-WR-CALDESC:Events for Wentworth Villa
REFRESH-INTERVAL;VALUE=DURATION:PT1H
X-Robots-Tag:noindex
X-PUBLISHED-TTL:PT1H
BEGIN:VTIMEZONE
TZID:America/Vancouver
BEGIN:DAYLIGHT
TZOFFSETFROM:-0800
TZOFFSETTO:-0700
TZNAME:PDT
DTSTART:20250309T100000
END:DAYLIGHT
BEGIN:STANDARD
TZOFFSETFROM:-0700
TZOFFSETTO:-0800
TZNAME:PST
DTSTART:20251102T090000
END:STANDARD
BEGIN:DAYLIGHT
TZOFFSETFROM:-0800
TZOFFSETTO:-0700
TZNAME:PDT
DTSTART:20260308T100000
END:DAYLIGHT
BEGIN:STANDARD
TZOFFSETFROM:-0700
TZOFFSETTO:-0800
TZNAME:PST
DTSTART:20261101T090000
END:STANDARD
BEGIN:DAYLIGHT
TZOFFSETFROM:-0800
TZOFFSETTO:-0700
TZNAME:PDT
DTSTART:20270314T100000
END:DAYLIGHT
BEGIN:STANDARD
TZOFFSETFROM:-0700
TZOFFSETTO:-0800
TZNAME:PST
DTSTART:20271107T090000
END:STANDARD
END:VTIMEZONE
BEGIN:VEVENT
DTSTART;TZID=America/Vancouver:20260416T100000
DTEND;TZID=America/Vancouver:20260416T113000
DTSTAMP:20260424T014330
CREATED:20260410T182010Z
LAST-MODIFIED:20260414T174957Z
UID:10000459-1776333600-1776339000@wentworthvilla.com
SUMMARY:Walks on Fort
DESCRIPTION:Guided tours of historic Fort Street\, from the waterfront to Wentworth Villa. Tours include entrance to the exhibit. \nJoin Wentworth Villa curators Ben and Charles for guided walking tours of historic Fort Street\, Victoria’s oldest street. Beginning at the Fort Victoria National Historic Site on the picturesque Inner Harbour\, we will make our way eastward on Fort Street to Wentworth Villa Museum. Enroute we will look at some of the street’s many surviving heritage buildings and consider their place in the historic fabric of the city. Stories of the buildings’ architects and original occupants will be shared along with special behind-the-scenes glimpses of how some of these buildings are being used today. At the end of the tour guests will be invited to take in our new feature exhibit\, Fort Street: The Story of Victoria’s First Street. \nMeeting Place: Fort Victoria National Historic Site on the western side of Wharf Street\, between Fort and Broughton Streets. \nTour Duration: Approximately 90 minutes (10-11:30)
URL:https://wentworthvilla.com/event/walks-on-fort-4/2026-04-16/
LOCATION:Fort Victoria National Historic Site\, 1002 Wharf Street\, Victoria\, BC\, V8W 1T4\, Canada
CATEGORIES:Architecture,Heritage Homes,Local History,Tour,Victoria Attractions
ATTACH;FMTTYPE=image/webp:https://wentworthvilla.com/wp-content/uploads/2026/03/walks-on-fort-2.webp
END:VEVENT
BEGIN:VEVENT
DTSTART;TZID=America/Vancouver:20260411T100000
DTEND;TZID=America/Vancouver:20260411T113000
DTSTAMP:20260424T014330
CREATED:20260410T181720Z
LAST-MODIFIED:20260410T181720Z
UID:10000327-1775901600-1775907000@wentworthvilla.com
SUMMARY:Walks on Fort
DESCRIPTION:Guided tours of historic Fort Street\, from the waterfront to Wentworth Villa. Tours include entrance to the exhibit. \nJoin Wentworth Villa curators Ben and Charles for guided walking tours of historic Fort Street\, Victoria’s oldest street. Beginning at the Fort Victoria National Historic Site on the picturesque Inner Harbour\, we will make our way eastward on Fort Street to Wentworth Villa Museum. Enroute we will look at some of the street’s many surviving heritage buildings and consider their place in the historic fabric of the city. Stories of the buildings’ architects and original occupants will be shared along with special behind-the-scenes glimpses of how some of these buildings are being used today. At the end of the tour guests will be invited to take in our new feature exhibit\, Fort Street: The Story of Victoria’s First Street. \nMeeting Place: Fort Victoria National Historic Site on the western side of Wharf Street\, between Fort and Broughton Streets. \nTour Duration: Approximately 90 minutes (10-11:30)
URL:https://wentworthvilla.com/event/walks-on-fort-3-2/2026-04-11/
LOCATION:Fort Victoria National Historic Site\, 1002 Wharf Street\, Victoria\, BC\, V8W 1T4\, Canada
CATEGORIES:Architecture,Heritage Homes,Local History,Tour,Victoria Attractions
ATTACH;FMTTYPE=image/webp:https://wentworthvilla.com/wp-content/uploads/2026/03/walks-on-fort-2.webp
END:VEVENT
BEGIN:VEVENT
DTSTART;TZID=America/Vancouver:20260402T100000
DTEND;TZID=America/Vancouver:20260402T113000
DTSTAMP:20260424T014330
CREATED:20260410T182010Z
LAST-MODIFIED:20260414T174957Z
UID:10000458-1775124000-1775129400@wentworthvilla.com
SUMMARY:Walks on Fort
DESCRIPTION:Guided tours of historic Fort Street\, from the waterfront to Wentworth Villa. Tours include entrance to the exhibit. \nJoin Wentworth Villa curators Ben and Charles for guided walking tours of historic Fort Street\, Victoria’s oldest street. Beginning at the Fort Victoria National Historic Site on the picturesque Inner Harbour\, we will make our way eastward on Fort Street to Wentworth Villa Museum. Enroute we will look at some of the street’s many surviving heritage buildings and consider their place in the historic fabric of the city. Stories of the buildings’ architects and original occupants will be shared along with special behind-the-scenes glimpses of how some of these buildings are being used today. At the end of the tour guests will be invited to take in our new feature exhibit\, Fort Street: The Story of Victoria’s First Street. \nMeeting Place: Fort Victoria National Historic Site on the western side of Wharf Street\, between Fort and Broughton Streets. \nTour Duration: Approximately 90 minutes (10-11:30)
URL:https://wentworthvilla.com/event/walks-on-fort-4/2026-04-02/
LOCATION:Fort Victoria National Historic Site\, 1002 Wharf Street\, Victoria\, BC\, V8W 1T4\, Canada
CATEGORIES:Architecture,Heritage Homes,Local History,Tour,Victoria Attractions
ATTACH;FMTTYPE=image/webp:https://wentworthvilla.com/wp-content/uploads/2026/03/walks-on-fort-2.webp
END:VEVENT
BEGIN:VEVENT
DTSTART;TZID=America/Vancouver:20260402T100000
DTEND;TZID=America/Vancouver:20260402T113000
DTSTAMP:20260424T014330
CREATED:20260330T183331Z
LAST-MODIFIED:20260410T180920Z
UID:10000326-1775124000-1775129400@wentworthvilla.com
SUMMARY:Walks on Fort
DESCRIPTION:Guided tours of historic Fort Street\, from the waterfront to Wentworth Villa. Tours include entrance to the exhibit. \nJoin Wentworth Villa curators Ben and Charles for guided walking tours of historic Fort Street\, Victoria’s oldest street. Beginning at the Fort Victoria National Historic Site on the picturesque Inner Harbour\, we will make our way eastward on Fort Street to Wentworth Villa Museum. Enroute we will look at some of the street’s many surviving heritage buildings and consider their place in the historic fabric of the city. Stories of the buildings’ architects and original occupants will be shared along with special behind-the-scenes glimpses of how some of these buildings are being used today. At the end of the tour guests will be invited to take in our new feature exhibit\, Fort Street: The Story of Victoria’s First Street. \nMeeting Place: Fort Victoria National Historic Site on the western side of Wharf Street\, between Fort and Broughton Streets. \nTour Duration: Approximately 90 minutes (10-11:30)
URL:https://wentworthvilla.com/event/walks-on-fort-3/
LOCATION:Fort Victoria National Historic Site\, 1002 Wharf Street\, Victoria\, BC\, V8W 1T4\, Canada
CATEGORIES:Architecture,Heritage Homes,Local History,Tour,Victoria Attractions
ATTACH;FMTTYPE=image/webp:https://wentworthvilla.com/wp-content/uploads/2026/03/walks-on-fort-2.webp
END:VEVENT
BEGIN:VEVENT
DTSTART;TZID=America/Vancouver:20260402T100000
DTEND;TZID=America/Vancouver:20260402T113000
DTSTAMP:20260424T014330
CREATED:20260320T161922Z
LAST-MODIFIED:20260410T175011Z
UID:10000200-1775124000-1775129400@wentworthvilla.com
SUMMARY:Walks on Fort
DESCRIPTION:Guided tours of historic Fort Street\, from the waterfront to Wentworth Villa. Tours include entrance to the exhibit. \nJoin Wentworth Villa curators Ben and Charles for guided walking tours of historic Fort Street\, Victoria’s oldest street. Beginning at the Fort Victoria National Historic Site on the picturesque Inner Harbour\, we will make our way eastward on Fort Street to Wentworth Villa Museum. Enroute we will look at some of the street’s many surviving heritage buildings and consider their place in the historic fabric of the city. Stories of the buildings’ architects and original occupants will be shared along with special behind-the-scenes glimpses of how some of these buildings are being used today. At the end of the tour guests will be invited to take in our new feature exhibit\, Fort Street: The Story of Victoria’s First Street. \nMeeting Place: Fort Victoria National Historic Site on the western side of Wharf Street\, between Fort and Broughton Streets. \nTour Duration: Approximately 90 minutes (10-11:30)
URL:https://wentworthvilla.com/event/walks-on-fort/
LOCATION:Fort Victoria National Historic Site\, 1002 Wharf Street\, Victoria\, BC\, V8W 1T4\, Canada
CATEGORIES:Architecture,Heritage Homes,Local History,Tour,Victoria Attractions
ATTACH;FMTTYPE=image/webp:https://wentworthvilla.com/wp-content/uploads/2026/03/walks-on-fort-2.webp
END:VEVENT
END:VCALENDAR